BEGIN:VCALENDAR
VERSION:2.0
PRODID:-//CHARM-EU - ECPv6.15.20//NONSGML v1.0//EN
CALSCALE:GREGORIAN
METHOD:PUBLISH
X-WR-CALNAME:CHARM-EU
X-ORIGINAL-URL:https://charm-eu.eu
X-WR-CALDESC:Events for CHARM-EU
REFRESH-INTERVAL;VALUE=DURATION:PT1H
X-Robots-Tag:noindex
X-PUBLISHED-TTL:PT1H
BEGIN:VTIMEZONE
TZID:Europe/Paris
BEGIN:DAYLIGHT
TZOFFSETFROM:+0100
TZOFFSETTO:+0200
TZNAME:CEST
DTSTART:20230326T010000
END:DAYLIGHT
BEGIN:STANDARD
TZOFFSETFROM:+0200
TZOFFSETTO:+0100
TZNAME:CET
DTSTART:20231029T010000
END:STANDARD
BEGIN:DAYLIGHT
TZOFFSETFROM:+0100
TZOFFSETTO:+0200
TZNAME:CEST
DTSTART:20240331T010000
END:DAYLIGHT
BEGIN:STANDARD
TZOFFSETFROM:+0200
TZOFFSETTO:+0100
TZNAME:CET
DTSTART:20241027T010000
END:STANDARD
BEGIN:DAYLIGHT
TZOFFSETFROM:+0100
TZOFFSETTO:+0200
TZNAME:CEST
DTSTART:20250330T010000
END:DAYLIGHT
BEGIN:STANDARD
TZOFFSETFROM:+0200
TZOFFSETTO:+0100
TZNAME:CET
DTSTART:20251026T010000
END:STANDARD
BEGIN:DAYLIGHT
TZOFFSETFROM:+0100
TZOFFSETTO:+0200
TZNAME:CEST
DTSTART:20260329T010000
END:DAYLIGHT
BEGIN:STANDARD
TZOFFSETFROM:+0200
TZOFFSETTO:+0100
TZNAME:CET
DTSTART:20261025T010000
END:STANDARD
END:VTIMEZONE
BEGIN:VEVENT
DTSTART;VALUE=DATE:20241105
DTEND;VALUE=DATE:20241107
DTSTAMP:20260423T140226
CREATED:20240708T171443Z
LAST-MODIFIED:20241004T062650Z
UID:10000022-1730764800-1730937599@charm-eu.eu
SUMMARY:CHARM-EU Cultural Festival 2024
DESCRIPTION:The CHARM-EU Ideathon is a dynamic\, cross-university innovation challenge launching on March 20\, delivered in collaboration with Entrepreneurship at Portal and Open Incubator. The programme brings together students from across the CHARM-EU alliance to co-createinclusive\, creative\, and sustainable solutions to real-world societal challenges. 								\n				\n				\n				\n									\n					\n						\n									All information & RSVP
URL:https://charm-eu.eu/event/charm-eu-cultural-festival-2024/
LOCATION:ELTE Faculty of Humanities\, Múzeum krt. 4.\, 6–8.\, Budapest\, 1088\, Hungary
CATEGORIES:CHARM event
ATTACH;FMTTYPE=image/png:https://charm-eu.eu/wp-content/uploads/2024/07/charmeu-annualconference-design24-WEB-BANNERS-CF.png
END:VEVENT
BEGIN:VEVENT
DTSTART;VALUE=DATE:20241105
DTEND;VALUE=DATE:20241107
DTSTAMP:20260423T140226
CREATED:20240925T102541Z
LAST-MODIFIED:20251008T105541Z
UID:10000041-1730764800-1730937599@charm-eu.eu
SUMMARY:CHARM-EU DAYS 2024
DESCRIPTION:The CHARM-EU Ideathon is a dynamic\, cross-university innovation challenge launching on March 20\, delivered in collaboration with Entrepreneurship at Portal and Open Incubator. The programme brings together students from across the CHARM-EU alliance to co-createinclusive\, creative\, and sustainable solutions to real-world societal challenges. 								\n				\n				\n				\n									\n					\n						\n									All information & RSVP
URL:https://charm-eu.eu/event/charm-eu-days-2024/
CATEGORIES:CHARM event,Interculturality,Learning,Mobility,Sustainability
END:VEVENT
BEGIN:VEVENT
DTSTART;VALUE=DATE:20241106
DTEND;VALUE=DATE:20241108
DTSTAMP:20260423T140226
CREATED:20241031T091628Z
LAST-MODIFIED:20241031T091709Z
UID:10000056-1730851200-1731023999@charm-eu.eu
SUMMARY:The Africa Charter: Advancing transformative research collaborations between Africa and the rest of the world
DESCRIPTION:The CHARM-EU Ideathon is a dynamic\, cross-university innovation challenge launching on March 20\, delivered in collaboration with Entrepreneurship at Portal and Open Incubator. The programme brings together students from across the CHARM-EU alliance to co-createinclusive\, creative\, and sustainable solutions to real-world societal challenges. 								\n				\n				\n				\n									\n					\n						\n									All information & RSVP
URL:https://charm-eu.eu/event/the-africa-charter-advancing-transformative-research-collaborations-between-africa-and-the-rest-of-the-world/
CATEGORIES:Research
END:VEVENT
BEGIN:VEVENT
DTSTART;TZID=Europe/Paris:20241115T083000
DTEND;TZID=Europe/Paris:20241129T114500
DTSTAMP:20260423T140226
CREATED:20241029T063752Z
LAST-MODIFIED:20241029T083130Z
UID:10000054-1731659400-1732880700@charm-eu.eu
SUMMARY:Blended Learning Workshop for Academic Staff\, by JMU
DESCRIPTION:The CHARM-EU Ideathon is a dynamic\, cross-university innovation challenge launching on March 20\, delivered in collaboration with Entrepreneurship at Portal and Open Incubator. The programme brings together students from across the CHARM-EU alliance to co-createinclusive\, creative\, and sustainable solutions to real-world societal challenges. 								\n				\n				\n				\n									\n					\n						\n									All information & RSVP
URL:https://charm-eu.eu/event/blended-learning-workshop-for-academic-staff-by-jwmu/
CATEGORIES:Teaching
END:VEVENT
BEGIN:VEVENT
DTSTART;VALUE=DATE:20241118
DTEND;VALUE=DATE:20241120
DTSTAMP:20260423T140226
CREATED:20241118T101334Z
LAST-MODIFIED:20241118T102139Z
UID:10000059-1731888000-1732060799@charm-eu.eu
SUMMARY:European University Alliances as a model of transnational cooperation
DESCRIPTION:The CHARM-EU Ideathon is a dynamic\, cross-university innovation challenge launching on March 20\, delivered in collaboration with Entrepreneurship at Portal and Open Incubator. The programme brings together students from across the CHARM-EU alliance to co-createinclusive\, creative\, and sustainable solutions to real-world societal challenges. 								\n				\n				\n				\n									\n					\n						\n									All information & RSVP
URL:https://charm-eu.eu/event/european-university-alliances-as-a-model-of-transnational-cooperation/
CATEGORIES:Select General Information General Information
END:VEVENT
BEGIN:VEVENT
DTSTART;VALUE=DATE:20241119
DTEND;VALUE=DATE:20241121
DTSTAMP:20260423T140226
CREATED:20241010T152206Z
LAST-MODIFIED:20241213T094111Z
UID:10000052-1731974400-1732147199@charm-eu.eu
SUMMARY:Language Teaching Meet-up
DESCRIPTION:The CHARM-EU Ideathon is a dynamic\, cross-university innovation challenge launching on March 20\, delivered in collaboration with Entrepreneurship at Portal and Open Incubator. The programme brings together students from across the CHARM-EU alliance to co-createinclusive\, creative\, and sustainable solutions to real-world societal challenges. 								\n				\n				\n				\n									\n					\n						\n									All information & RSVP
URL:https://charm-eu.eu/event/language-teaching-meet-up/
LOCATION:Åbo Akademi University\, Tuomiokirkontori 3\, Turku\, 20500\, Finland
CATEGORIES:Inter-Institutional Working Groups,Interculturality,Teaching
END:VEVENT
BEGIN:VEVENT
DTSTART;TZID=Europe/Paris:20241121T103000
DTEND;TZID=Europe/Paris:20241121T183000
DTSTAMP:20260423T140226
CREATED:20241118T151532Z
LAST-MODIFIED:20241118T151654Z
UID:10000063-1732185000-1732213800@charm-eu.eu
SUMMARY:EuroTeQ Day: Innovative teaching\, stays abroad\, and the best of European university cooperation
DESCRIPTION:The CHARM-EU Ideathon is a dynamic\, cross-university innovation challenge launching on March 20\, delivered in collaboration with Entrepreneurship at Portal and Open Incubator. The programme brings together students from across the CHARM-EU alliance to co-createinclusive\, creative\, and sustainable solutions to real-world societal challenges. 								\n				\n				\n				\n									\n					\n						\n									All information & RSVP
URL:https://charm-eu.eu/event/euroteq-day-innovative-teaching-stays-abroad-and-the-best-of-european-university-cooperation/
CATEGORIES:Learning
END:VEVENT
BEGIN:VEVENT
DTSTART;TZID=Europe/Paris:20241121T140000
DTEND;TZID=Europe/Paris:20241122T173000
DTSTAMP:20260423T140226
CREATED:20241118T133100Z
LAST-MODIFIED:20241118T133148Z
UID:10000062-1732197600-1732296600@charm-eu.eu
SUMMARY:The transformative impact of CIVICA on global challenges | Knowledge and Informal Diplomacy
DESCRIPTION:The CHARM-EU Ideathon is a dynamic\, cross-university innovation challenge launching on March 20\, delivered in collaboration with Entrepreneurship at Portal and Open Incubator. The programme brings together students from across the CHARM-EU alliance to co-createinclusive\, creative\, and sustainable solutions to real-world societal challenges. 								\n				\n				\n				\n									\n					\n						\n									All information & RSVP
URL:https://charm-eu.eu/event/the-transformative-impact-of-civica-on-global-challenges-knowledge-and-informal-diplomacy-2/
CATEGORIES:Learning
END:VEVENT
BEGIN:VEVENT
DTSTART;TZID=Europe/Paris:20241127T090000
DTEND;TZID=Europe/Paris:20241127T140000
DTSTAMP:20260423T140226
CREATED:20241118T112343Z
LAST-MODIFIED:20241118T115139Z
UID:10000060-1732698000-1732716000@charm-eu.eu
SUMMARY:Which and How Many Engineers for Tomorrow?
DESCRIPTION:The CHARM-EU Ideathon is a dynamic\, cross-university innovation challenge launching on March 20\, delivered in collaboration with Entrepreneurship at Portal and Open Incubator. The programme brings together students from across the CHARM-EU alliance to co-createinclusive\, creative\, and sustainable solutions to real-world societal challenges. 								\n				\n				\n				\n									\n					\n						\n									All information & RSVP
URL:https://charm-eu.eu/event/which-and-how-many-engineers-for-tomorrow/
LOCATION:Maison Irène et Frédéric Joliot Curie\, Rue du Trône 100\, Brussels\, Maison Irène et Frédéric Joliot Curie\, Rue du Trône\, Brussels\, Belgium
CATEGORIES:Mobility
END:VEVENT
BEGIN:VEVENT
DTSTART;TZID=Europe/Paris:20241203T100000
DTEND;TZID=Europe/Paris:20241203T120000
DTSTAMP:20260423T140226
CREATED:20241126T162959Z
LAST-MODIFIED:20241203T084616Z
UID:10000067-1733220000-1733227200@charm-eu.eu
SUMMARY:World Café: Best Practices for European University Alliances in Professional Development
DESCRIPTION:The CHARM-EU Ideathon is a dynamic\, cross-university innovation challenge launching on March 20\, delivered in collaboration with Entrepreneurship at Portal and Open Incubator. The programme brings together students from across the CHARM-EU alliance to co-createinclusive\, creative\, and sustainable solutions to real-world societal challenges. 								\n				\n				\n				\n									\n					\n						\n									All information & RSVP
URL:https://charm-eu.eu/event/world-cafe-best-practices-for-european-university-alliances-in-professional-development-2/
CATEGORIES:CHARM event,Learning
END:VEVENT
BEGIN:VEVENT
DTSTART;TZID=Europe/Paris:20241205T100000
DTEND;TZID=Europe/Paris:20241205T123000
DTSTAMP:20260423T140226
CREATED:20241127T100957Z
LAST-MODIFIED:20241127T145511Z
UID:10000068-1733392800-1733401800@charm-eu.eu
SUMMARY:EACEA Online Infoday: Capacity Building in Higher Education action
DESCRIPTION:The CHARM-EU Ideathon is a dynamic\, cross-university innovation challenge launching on March 20\, delivered in collaboration with Entrepreneurship at Portal and Open Incubator. The programme brings together students from across the CHARM-EU alliance to co-createinclusive\, creative\, and sustainable solutions to real-world societal challenges. 								\n				\n				\n				\n									\n					\n						\n									All information & RSVP
URL:https://charm-eu.eu/event/online-info-session-capacity-building-in-higher-education-cbhe-action/
CATEGORIES:Governance,Sustainability
END:VEVENT
BEGIN:VEVENT
DTSTART;TZID=Europe/Paris:20241212T103000
DTEND;TZID=Europe/Paris:20241212T123000
DTSTAMP:20260423T140226
CREATED:20241125T134727Z
LAST-MODIFIED:20241125T134727Z
UID:10000066-1733999400-1734006600@charm-eu.eu
SUMMARY:Empowering Youth - Active Participation and Engagement within the EDUC Alliance and Beyond
DESCRIPTION:The CHARM-EU Ideathon is a dynamic\, cross-university innovation challenge launching on March 20\, delivered in collaboration with Entrepreneurship at Portal and Open Incubator. The programme brings together students from across the CHARM-EU alliance to co-createinclusive\, creative\, and sustainable solutions to real-world societal challenges. 								\n				\n				\n				\n									\n					\n						\n									All information & RSVP
URL:https://charm-eu.eu/event/empowering-youth-active-participation-and-engagement-within-the-educ-alliance-and-beyond/
CATEGORIES:Governance,Interculturality
END:VEVENT
BEGIN:VEVENT
DTSTART;TZID=Europe/Paris:20241212T103000
DTEND;TZID=Europe/Paris:20241212T133000
DTSTAMP:20260423T140226
CREATED:20241118T120114Z
LAST-MODIFIED:20241118T120114Z
UID:10000061-1733999400-1734010200@charm-eu.eu
SUMMARY:Policy workshop – Bridging the gap between academia and Life-Long Learning: the case of EUTOPIA-FLECSLAB
DESCRIPTION:The CHARM-EU Ideathon is a dynamic\, cross-university innovation challenge launching on March 20\, delivered in collaboration with Entrepreneurship at Portal and Open Incubator. The programme brings together students from across the CHARM-EU alliance to co-createinclusive\, creative\, and sustainable solutions to real-world societal challenges. 								\n				\n				\n				\n									\n					\n						\n									All information & RSVP
URL:https://charm-eu.eu/event/policy-workshop-bridging-the-gap-between-academia-and-life-long-learning-the-case-of-eutopia-flecslab/
LOCATION:European Economic & Social Committee Headquarters\, Brussels\, Belgium
END:VEVENT
BEGIN:VEVENT
DTSTART;VALUE=DATE:20250113
DTEND;VALUE=DATE:20250118
DTSTAMP:20260423T140226
CREATED:20241119T104432Z
LAST-MODIFIED:20241119T104752Z
UID:10000064-1736726400-1737158399@charm-eu.eu
SUMMARY:CHARM-EU Winter School 2025
DESCRIPTION:The CHARM-EU Ideathon is a dynamic\, cross-university innovation challenge launching on March 20\, delivered in collaboration with Entrepreneurship at Portal and Open Incubator. The programme brings together students from across the CHARM-EU alliance to co-createinclusive\, creative\, and sustainable solutions to real-world societal challenges. 								\n				\n				\n				\n									\n					\n						\n									All information & RSVP
URL:https://charm-eu.eu/event/charm-eu-winter-school-2025/
LOCATION:Utrecht University\, CHARM-EU\, Utrecht University\, Utrecht\, Netherlands
END:VEVENT
BEGIN:VEVENT
DTSTART;VALUE=DATE:20250123
DTEND;VALUE=DATE:20250124
DTSTAMP:20260423T140226
CREATED:20241031T092417Z
LAST-MODIFIED:20241031T092417Z
UID:10000057-1737590400-1737676799@charm-eu.eu
SUMMARY:IDEM Final Conference
DESCRIPTION:The CHARM-EU Ideathon is a dynamic\, cross-university innovation challenge launching on March 20\, delivered in collaboration with Entrepreneurship at Portal and Open Incubator. The programme brings together students from across the CHARM-EU alliance to co-createinclusive\, creative\, and sustainable solutions to real-world societal challenges. 								\n				\n				\n				\n									\n					\n						\n									All information & RSVP
URL:https://charm-eu.eu/event/idem-final-conference/
CATEGORIES:Interculturality,Mobility,Select Inclusivity Inclusivity
END:VEVENT
BEGIN:VEVENT
DTSTART;TZID=Europe/Paris:20250127T093000
DTEND;TZID=Europe/Paris:20250128T170000
DTSTAMP:20260423T140226
CREATED:20241219T164350Z
LAST-MODIFIED:20250123T151303Z
UID:10000069-1737970200-1738083600@charm-eu.eu
SUMMARY:Grand Finale 2025
DESCRIPTION:The CHARM-EU Ideathon is a dynamic\, cross-university innovation challenge launching on March 20\, delivered in collaboration with Entrepreneurship at Portal and Open Incubator. The programme brings together students from across the CHARM-EU alliance to co-createinclusive\, creative\, and sustainable solutions to real-world societal challenges. 								\n				\n				\n				\n									\n					\n						\n									All information & RSVP
URL:https://charm-eu.eu/event/grand-finale-2025/
LOCATION:Edifici Històric\, Universitat de Barcelona\, Pl. de la Universitat\, L'Eixample\, Barcelona\, Catalunya\, 08007\, Spain
CATEGORIES:CHARM event,Learning,Sustainability
END:VEVENT
BEGIN:VEVENT
DTSTART;VALUE=DATE:20250129
DTEND;VALUE=DATE:20250131
DTSTAMP:20260423T140226
CREATED:20250120T115231Z
LAST-MODIFIED:20250127T141535Z
UID:10000075-1738108800-1738281599@charm-eu.eu
SUMMARY:KCT on Intercultural Awareness Meeting
DESCRIPTION:The CHARM-EU Ideathon is a dynamic\, cross-university innovation challenge launching on March 20\, delivered in collaboration with Entrepreneurship at Portal and Open Incubator. The programme brings together students from across the CHARM-EU alliance to co-createinclusive\, creative\, and sustainable solutions to real-world societal challenges. 								\n				\n				\n				\n									\n					\n						\n									All information & RSVP
URL:https://charm-eu.eu/event/kct-on-intercultural-awareness-meeting/
CATEGORIES:CHARM event,Innovation,Interculturality
END:VEVENT
BEGIN:VEVENT
DTSTART;TZID=Europe/Paris:20250129T100000
DTEND;TZID=Europe/Paris:20250129T133000
DTSTAMP:20260423T140226
CREATED:20241219T165932Z
LAST-MODIFIED:20241219T170211Z
UID:10000070-1738144800-1738157400@charm-eu.eu
SUMMARY:Alumni & Assesment day
DESCRIPTION:The CHARM-EU Ideathon is a dynamic\, cross-university innovation challenge launching on March 20\, delivered in collaboration with Entrepreneurship at Portal and Open Incubator. The programme brings together students from across the CHARM-EU alliance to co-createinclusive\, creative\, and sustainable solutions to real-world societal challenges. 								\n				\n				\n				\n									\n					\n						\n									All information & RSVP
URL:https://charm-eu.eu/event/alumni-assesment-day/
LOCATION:Edifici Històric\, Universitat de Barcelona\, Pl. de la Universitat\, L'Eixample\, Barcelona\, Catalunya\, 08007\, Spain
CATEGORIES:Learning
END:VEVENT
BEGIN:VEVENT
DTSTART;TZID=Europe/Paris:20250129T170000
DTEND;TZID=Europe/Paris:20250129T183000
DTSTAMP:20260423T140226
CREATED:20250115T104228Z
LAST-MODIFIED:20250115T104308Z
UID:10000074-1738170000-1738175400@charm-eu.eu
SUMMARY:Contextualizing Islam and its complex history
DESCRIPTION:The CHARM-EU Ideathon is a dynamic\, cross-university innovation challenge launching on March 20\, delivered in collaboration with Entrepreneurship at Portal and Open Incubator. The programme brings together students from across the CHARM-EU alliance to co-createinclusive\, creative\, and sustainable solutions to real-world societal challenges. 								\n				\n				\n				\n									\n					\n						\n									All information & RSVP
URL:https://charm-eu.eu/event/contextualizing-islam-and-its-complex-history/
CATEGORIES:CHARM event,Learning
END:VEVENT
BEGIN:VEVENT
DTSTART;TZID=Europe/Paris:20250130T110000
DTEND;TZID=Europe/Paris:20250130T123000
DTSTAMP:20260423T140226
CREATED:20250113T113401Z
LAST-MODIFIED:20251008T105604Z
UID:10000071-1738234800-1738240200@charm-eu.eu
SUMMARY:Commencement ceremony 3rd cohort - Master's programme in Global Challenges for Sustainability
DESCRIPTION:The CHARM-EU Ideathon is a dynamic\, cross-university innovation challenge launching on March 20\, delivered in collaboration with Entrepreneurship at Portal and Open Incubator. The programme brings together students from across the CHARM-EU alliance to co-createinclusive\, creative\, and sustainable solutions to real-world societal challenges. 								\n				\n				\n				\n									\n					\n						\n									All information & RSVP
URL:https://charm-eu.eu/event/graduation-3rd-cohort-masters-programme-in-global-challenges-for-sustainability/
LOCATION:Edifici Històric\, Universitat de Barcelona\, Pl. de la Universitat\, L'Eixample\, Barcelona\, Catalunya\, 08007\, Spain
CATEGORIES:Sustainability
END:VEVENT
BEGIN:VEVENT
DTSTART;VALUE=DATE:20250204
DTEND;VALUE=DATE:20250207
DTSTAMP:20260423T140226
CREATED:20241010T153540Z
LAST-MODIFIED:20251008T105612Z
UID:10000053-1738627200-1738886399@charm-eu.eu
SUMMARY:Student Mobility Summit | More mobility\, less carbon footprint
DESCRIPTION:The CHARM-EU Ideathon is a dynamic\, cross-university innovation challenge launching on March 20\, delivered in collaboration with Entrepreneurship at Portal and Open Incubator. The programme brings together students from across the CHARM-EU alliance to co-createinclusive\, creative\, and sustainable solutions to real-world societal challenges. 								\n				\n				\n				\n									\n					\n						\n									All information & RSVP
URL:https://charm-eu.eu/event/student-mobility-summit-more-mobility-less-carbon-footprint/
LOCATION:Edifici Històric\, Universitat de Barcelona\, Pl. de la Universitat\, L'Eixample\, Barcelona\, Catalunya\, 08007\, Spain
CATEGORIES:Mobility,Sustainability
ATTACH;FMTTYPE=image/png:https://charm-eu.eu/wp-content/uploads/2024/10/stuident-mobility-summit-2025-banner.png
END:VEVENT
BEGIN:VEVENT
DTSTART;TZID=Europe/Paris:20250211T110000
DTEND;TZID=Europe/Paris:20250211T110000
DTSTAMP:20260423T140226
CREATED:20250204T102230Z
LAST-MODIFIED:20250204T102301Z
UID:10000076-1739271600-1739271600@charm-eu.eu
SUMMARY:4th annual EELISA Roundtable
DESCRIPTION:The CHARM-EU Ideathon is a dynamic\, cross-university innovation challenge launching on March 20\, delivered in collaboration with Entrepreneurship at Portal and Open Incubator. The programme brings together students from across the CHARM-EU alliance to co-createinclusive\, creative\, and sustainable solutions to real-world societal challenges. 								\n				\n				\n				\n									\n					\n						\n									All information & RSVP
URL:https://charm-eu.eu/event/4th-annual-eelisa-roundtable/
CATEGORIES:Research,Select General Information General Information,Select Inclusivity Inclusivity,Sustainability,Teaching
END:VEVENT
BEGIN:VEVENT
DTSTART;TZID=Europe/Paris:20250218T100000
DTEND;TZID=Europe/Paris:20250218T180000
DTSTAMP:20260423T140226
CREATED:20250214T140434Z
LAST-MODIFIED:20250214T141502Z
UID:10000078-1739872800-1739901600@charm-eu.eu
SUMMARY:Farewell symposium Jan Haarhuis: Shaping the Future of Higher Education
DESCRIPTION:The CHARM-EU Ideathon is a dynamic\, cross-university innovation challenge launching on March 20\, delivered in collaboration with Entrepreneurship at Portal and Open Incubator. The programme brings together students from across the CHARM-EU alliance to co-createinclusive\, creative\, and sustainable solutions to real-world societal challenges. 								\n				\n				\n				\n									\n					\n						\n									All information & RSVP
URL:https://charm-eu.eu/event/farewell-symposium-jan-haarhuis-shaping-the-future-of-higher-education/
CATEGORIES:CHARM event,Governance,Innovation,Inter-Institutional Working Groups,Interculturality,Learning,Mobility,Research,Select General Information General Information,Sustainability,Teaching
END:VEVENT
BEGIN:VEVENT
DTSTART;TZID=Europe/Paris:20250219T100000
DTEND;TZID=Europe/Paris:20250219T123000
DTSTAMP:20260423T140226
CREATED:20250114T090035Z
LAST-MODIFIED:20250114T092032Z
UID:10000072-1739959200-1739968200@charm-eu.eu
SUMMARY:Workshop: Programmatic Assessment in CHARM EU / Sinnhaft(er) prüfen – erste Schritte in Richtung Programmatic Assessment
DESCRIPTION:The CHARM-EU Ideathon is a dynamic\, cross-university innovation challenge launching on March 20\, delivered in collaboration with Entrepreneurship at Portal and Open Incubator. The programme brings together students from across the CHARM-EU alliance to co-createinclusive\, creative\, and sustainable solutions to real-world societal challenges. 								\n				\n				\n				\n									\n					\n						\n									All information & RSVP
URL:https://charm-eu.eu/event/workshop-programmatic-assessment-in-charm-eu-sinnhafter-prufen-erste-schritte-in-richtung-programmatic-assessment/
CATEGORIES:Learning
END:VEVENT
BEGIN:VEVENT
DTSTART;TZID=Europe/Paris:20250226T100000
DTEND;TZID=Europe/Paris:20250226T120000
DTSTAMP:20260423T140226
CREATED:20250114T090039Z
LAST-MODIFIED:20250218T131635Z
UID:10000073-1740564000-1740571200@charm-eu.eu
SUMMARY:Workshop: Programmatic Assessment in CHARM EU
DESCRIPTION:The CHARM-EU Ideathon is a dynamic\, cross-university innovation challenge launching on March 20\, delivered in collaboration with Entrepreneurship at Portal and Open Incubator. The programme brings together students from across the CHARM-EU alliance to co-createinclusive\, creative\, and sustainable solutions to real-world societal challenges. 								\n				\n				\n				\n									\n					\n						\n									All information & RSVP
URL:https://charm-eu.eu/event/workshop-programmatic-assessment-in-charm-eu/
CATEGORIES:Learning
END:VEVENT
BEGIN:VEVENT
DTSTART;TZID=Europe/Paris:20250325T090000
DTEND;TZID=Europe/Paris:20250327T170000
DTSTAMP:20260423T140226
CREATED:20241122T090608Z
LAST-MODIFIED:20241122T090710Z
UID:10000065-1742893200-1743094800@charm-eu.eu
SUMMARY:EU Values Compass Training
DESCRIPTION:The CHARM-EU Ideathon is a dynamic\, cross-university innovation challenge launching on March 20\, delivered in collaboration with Entrepreneurship at Portal and Open Incubator. The programme brings together students from across the CHARM-EU alliance to co-createinclusive\, creative\, and sustainable solutions to real-world societal challenges. 								\n				\n				\n				\n									\n					\n						\n									All information & RSVP
URL:https://charm-eu.eu/event/eu-values-compass-training/
CATEGORIES:Interculturality,Mobility,Teaching
END:VEVENT
BEGIN:VEVENT
DTSTART;VALUE=DATE:20250327
DTEND;VALUE=DATE:20250329
DTSTAMP:20260423T140226
CREATED:20250213T133518Z
LAST-MODIFIED:20250213T133518Z
UID:10000077-1743033600-1743206399@charm-eu.eu
SUMMARY:ENLIGHT Impact Conference 2025
DESCRIPTION:The CHARM-EU Ideathon is a dynamic\, cross-university innovation challenge launching on March 20\, delivered in collaboration with Entrepreneurship at Portal and Open Incubator. The programme brings together students from across the CHARM-EU alliance to co-createinclusive\, creative\, and sustainable solutions to real-world societal challenges. 								\n				\n				\n				\n									\n					\n						\n									All information & RSVP
URL:https://charm-eu.eu/event/enlight-impact-conference-2025/
CATEGORIES:Select General Information General Information
END:VEVENT
BEGIN:VEVENT
DTSTART;TZID=Europe/Paris:20250401T133000
DTEND;TZID=Europe/Paris:20250401T143000
DTSTAMP:20260423T140226
CREATED:20250307T093315Z
LAST-MODIFIED:20250307T093315Z
UID:10000079-1743514200-1743517800@charm-eu.eu
SUMMARY:LERU Talks - The European Degree: desirability\, feasibility and viability
DESCRIPTION:The CHARM-EU Ideathon is a dynamic\, cross-university innovation challenge launching on March 20\, delivered in collaboration with Entrepreneurship at Portal and Open Incubator. The programme brings together students from across the CHARM-EU alliance to co-createinclusive\, creative\, and sustainable solutions to real-world societal challenges. 								\n				\n				\n				\n									\n					\n						\n									All information & RSVP
URL:https://charm-eu.eu/event/leru-talks-the-european-degree-desirability-feasibility-and-viability/
CATEGORIES:Governance,Learning,Mobility
END:VEVENT
BEGIN:VEVENT
DTSTART;VALUE=DATE:20250402
DTEND;VALUE=DATE:20250404
DTSTAMP:20260423T140226
CREATED:20250327T110352Z
LAST-MODIFIED:20250327T110352Z
UID:10000082-1743552000-1743724799@charm-eu.eu
SUMMARY:Arqus Annual Conference
DESCRIPTION:The CHARM-EU Ideathon is a dynamic\, cross-university innovation challenge launching on March 20\, delivered in collaboration with Entrepreneurship at Portal and Open Incubator. The programme brings together students from across the CHARM-EU alliance to co-createinclusive\, creative\, and sustainable solutions to real-world societal challenges. 								\n				\n				\n				\n									\n					\n						\n									All information & RSVP
URL:https://charm-eu.eu/event/arqus-annual-conference/
CATEGORIES:Governance,Research
ATTACH;FMTTYPE=image/jpeg:https://charm-eu.eu/wp-content/uploads/2025/03/argus-conference.jpg
END:VEVENT
BEGIN:VEVENT
DTSTART;VALUE=DATE:20250506
DTEND;VALUE=DATE:20250508
DTSTAMP:20260423T140226
CREATED:20250311T074137Z
LAST-MODIFIED:20250311T074137Z
UID:10000080-1746489600-1746662399@charm-eu.eu
SUMMARY:CIVICA Global Forum 2025
DESCRIPTION:The CHARM-EU Ideathon is a dynamic\, cross-university innovation challenge launching on March 20\, delivered in collaboration with Entrepreneurship at Portal and Open Incubator. The programme brings together students from across the CHARM-EU alliance to co-createinclusive\, creative\, and sustainable solutions to real-world societal challenges. 								\n				\n				\n				\n									\n					\n						\n									All information & RSVP
URL:https://charm-eu.eu/event/civica-global-forum-2025/
CATEGORIES:Learning,Sustainability,Teaching
ATTACH;FMTTYPE=image/png:https://charm-eu.eu/wp-content/uploads/2025/03/civica-global-forum-may-2025.png
END:VEVENT
END:VCALENDAR