BEGIN:VCALENDAR
VERSION:2.0
PRODID:-//CHARM-EU - ECPv6.15.20//NONSGML v1.0//EN
CALSCALE:GREGORIAN
METHOD:PUBLISH
X-WR-CALNAME:CHARM-EU
X-ORIGINAL-URL:https://charm-eu.eu
X-WR-CALDESC:Events for CHARM-EU
REFRESH-INTERVAL;VALUE=DURATION:PT1H
X-Robots-Tag:noindex
X-PUBLISHED-TTL:PT1H
BEGIN:VTIMEZONE
TZID:Europe/Paris
BEGIN:DAYLIGHT
TZOFFSETFROM:+0100
TZOFFSETTO:+0200
TZNAME:CEST
DTSTART:20220327T010000
END:DAYLIGHT
BEGIN:STANDARD
TZOFFSETFROM:+0200
TZOFFSETTO:+0100
TZNAME:CET
DTSTART:20221030T010000
END:STANDARD
BEGIN:DAYLIGHT
TZOFFSETFROM:+0100
TZOFFSETTO:+0200
TZNAME:CEST
DTSTART:20230326T010000
END:DAYLIGHT
BEGIN:STANDARD
TZOFFSETFROM:+0200
TZOFFSETTO:+0100
TZNAME:CET
DTSTART:20231029T010000
END:STANDARD
BEGIN:DAYLIGHT
TZOFFSETFROM:+0100
TZOFFSETTO:+0200
TZNAME:CEST
DTSTART:20240331T010000
END:DAYLIGHT
BEGIN:STANDARD
TZOFFSETFROM:+0200
TZOFFSETTO:+0100
TZNAME:CET
DTSTART:20241027T010000
END:STANDARD
END:VTIMEZONE
BEGIN:VEVENT
DTSTART;VALUE=DATE:20230509
DTEND;VALUE=DATE:20230510
DTSTAMP:20260423T111515
CREATED:20240913T114119Z
LAST-MODIFIED:20240913T114119Z
UID:10000033-1683590400-1683676799@charm-eu.eu
SUMMARY:Town Hall on Inter- and Transdisciplinarity at Trinity
DESCRIPTION:Date: 9 May 2023\nTime: 2 – 4:30 PM IST\nLocation: Trinity Long Room Hub Fellow Square Trinity College Dublin 2 Ireland\nIn April 2023\, the League of European Research Universities (LERU) published a new paper\, Implementing interdisciplinarity in research-intensive universities: good practices and challenges\, examining progress on implementing interdisciplinarity among member universities since their 2016 position paper\, Interdisciplinarity and the 21st century research-intensive university. The new report revisits recommendations\, considers where progress has been made and where further changes are recommended. Members of the Horizon Europe SHAPE-ID project\, led by Professor Jane Ohlmeyer\, contributed to the new report. \nThis town hall\, organised by Trinity Research and the Trinity Long Room Hub\, is an occasion for members of the Trinity community to reflect on where Trinity has been successful in encouraging and supporting inter- and transdisciplinarity in research and education and consider where we can and should aim to improve. All members of the College community are invited to attend and contribute.
URL:https://charm-eu.eu/event/town-hall-on-inter-and-transdisciplinarity-at-trinity/
LOCATION:Montpellier
CATEGORIES:CHARM event,Learning,Research,Teaching
END:VEVENT
END:VCALENDAR