BEGIN:VCALENDAR
VERSION:2.0
PRODID:-//CHARM-EU - ECPv6.15.20//NONSGML v1.0//EN
CALSCALE:GREGORIAN
METHOD:PUBLISH
X-ORIGINAL-URL:https://charm-eu.eu
X-WR-CALDESC:Events for CHARM-EU
REFRESH-INTERVAL;VALUE=DURATION:PT1H
X-Robots-Tag:noindex
X-PUBLISHED-TTL:PT1H
BEGIN:VTIMEZONE
TZID:Europe/Paris
BEGIN:DAYLIGHT
TZOFFSETFROM:+0100
TZOFFSETTO:+0200
TZNAME:CEST
DTSTART:20240331T010000
END:DAYLIGHT
BEGIN:STANDARD
TZOFFSETFROM:+0200
TZOFFSETTO:+0100
TZNAME:CET
DTSTART:20241027T010000
END:STANDARD
BEGIN:DAYLIGHT
TZOFFSETFROM:+0100
TZOFFSETTO:+0200
TZNAME:CEST
DTSTART:20250330T010000
END:DAYLIGHT
BEGIN:STANDARD
TZOFFSETFROM:+0200
TZOFFSETTO:+0100
TZNAME:CET
DTSTART:20251026T010000
END:STANDARD
BEGIN:DAYLIGHT
TZOFFSETFROM:+0100
TZOFFSETTO:+0200
TZNAME:CEST
DTSTART:20260329T010000
END:DAYLIGHT
BEGIN:STANDARD
TZOFFSETFROM:+0200
TZOFFSETTO:+0100
TZNAME:CET
DTSTART:20261025T010000
END:STANDARD
END:VTIMEZONE
BEGIN:VEVENT
DTSTART;VALUE=DATE:20250123
DTEND;VALUE=DATE:20250124
DTSTAMP:20260419T171014
CREATED:20241031T092417Z
LAST-MODIFIED:20241031T092417Z
UID:10000057-1737590400-1737676799@charm-eu.eu
SUMMARY:IDEM Final Conference
DESCRIPTION:Welcome to the IDEM – Inclusion\, Diversity\, Equity in Mobility Final Conference. Marking the culmination of three years of collaborative work among five partner institutions\, this event will celebrate IDEM’s collective efforts to promote inclusive and equitable student mobility across Europe. \nAt the conference the IDEM Mobility Model and IDEM Toolkit will be presented\, along with key recommendations and best practices developed through our partnership. \nJoin in exploring IDEM’s achievements and discussing the future of inclusive mobility in higher education. \nThis full-day event will feature insightful discussions\, interactive moments\, and opportunities to connect with professionals dedicated to enhancing diversity in student mobility. \nAre you interested in joining? More information and registration available on IDEM’s website. \nVenue: NHow Bloom Hotel – Brussels\, Belgium
URL:https://charm-eu.eu/event/idem-final-conference/
CATEGORIES:Interculturality,Mobility,Select Inclusivity Inclusivity
END:VEVENT
END:VCALENDAR