BEGIN:VCALENDAR
VERSION:2.0
PRODID:-//CHARM-EU - ECPv6.15.20//NONSGML v1.0//EN
CALSCALE:GREGORIAN
METHOD:PUBLISH
X-WR-CALNAME:CHARM-EU
X-ORIGINAL-URL:https://charm-eu.eu
X-WR-CALDESC:Events for CHARM-EU
REFRESH-INTERVAL;VALUE=DURATION:PT1H
X-Robots-Tag:noindex
X-PUBLISHED-TTL:PT1H
BEGIN:VTIMEZONE
TZID:Europe/Paris
BEGIN:DAYLIGHT
TZOFFSETFROM:+0100
TZOFFSETTO:+0200
TZNAME:CEST
DTSTART:20230326T010000
END:DAYLIGHT
BEGIN:STANDARD
TZOFFSETFROM:+0200
TZOFFSETTO:+0100
TZNAME:CET
DTSTART:20231029T010000
END:STANDARD
BEGIN:DAYLIGHT
TZOFFSETFROM:+0100
TZOFFSETTO:+0200
TZNAME:CEST
DTSTART:20240331T010000
END:DAYLIGHT
BEGIN:STANDARD
TZOFFSETFROM:+0200
TZOFFSETTO:+0100
TZNAME:CET
DTSTART:20241027T010000
END:STANDARD
BEGIN:DAYLIGHT
TZOFFSETFROM:+0100
TZOFFSETTO:+0200
TZNAME:CEST
DTSTART:20250330T010000
END:DAYLIGHT
BEGIN:STANDARD
TZOFFSETFROM:+0200
TZOFFSETTO:+0100
TZNAME:CET
DTSTART:20251026T010000
END:STANDARD
END:VTIMEZONE
BEGIN:VEVENT
DTSTART;VALUE=DATE:20241118
DTEND;VALUE=DATE:20241120
DTSTAMP:20260422T140412
CREATED:20241118T101334Z
LAST-MODIFIED:20241118T102139Z
UID:10000059-1731888000-1732060799@charm-eu.eu
SUMMARY:European University Alliances as a model of transnational cooperation
DESCRIPTION:The online SPHERE seminar aims to provide participants with insights into the policy and practice of the European Universities Initiative (EUI) through panel discussions and case studies. While focusing on the EUI and its alliances\, the seminar also invites discussions on current European higher education policy and the Bologna Process commitments\, targeting those involved in higher education policy-making at all experience levels. \nThis online SPHERE seminar will provide participants with an opportunity to learn about and discuss the policy and practice aspects of the EUI in plenary discussions and smaller workshop sessions. It will examine the ramifications for the HERE countries and their respective policy processes related to internationalisation of the higher education sector\, international partnerships and cooperation with the EU. \nCHARM-EU Secretary General\, Meritxell Chaves\, will participate at the session about Quality Assurance in inter-institutional collaboration from 12:00 to 13:00 with Maria Kelo\, Director of Institutional Development from the EUA and Sophia Karner\, from UnaEuropa. \nMore information: https://erasmus-networks.ec.europa.eu/sphere/seminar/online/europeanuniversity
URL:https://charm-eu.eu/event/european-university-alliances-as-a-model-of-transnational-cooperation/
CATEGORIES:Select General Information General Information
END:VEVENT
END:VCALENDAR