BEGIN:VCALENDAR
VERSION:2.0
PRODID:-//CHARM-EU - ECPv6.15.20//NONSGML v1.0//EN
CALSCALE:GREGORIAN
METHOD:PUBLISH
X-ORIGINAL-URL:https://charm-eu.eu
X-WR-CALDESC:Events for CHARM-EU
REFRESH-INTERVAL;VALUE=DURATION:PT1H
X-Robots-Tag:noindex
X-PUBLISHED-TTL:PT1H
BEGIN:VTIMEZONE
TZID:Europe/Paris
BEGIN:DAYLIGHT
TZOFFSETFROM:+0100
TZOFFSETTO:+0200
TZNAME:CEST
DTSTART:20240331T010000
END:DAYLIGHT
BEGIN:STANDARD
TZOFFSETFROM:+0200
TZOFFSETTO:+0100
TZNAME:CET
DTSTART:20241027T010000
END:STANDARD
BEGIN:DAYLIGHT
TZOFFSETFROM:+0100
TZOFFSETTO:+0200
TZNAME:CEST
DTSTART:20250330T010000
END:DAYLIGHT
BEGIN:STANDARD
TZOFFSETFROM:+0200
TZOFFSETTO:+0100
TZNAME:CET
DTSTART:20251026T010000
END:STANDARD
BEGIN:DAYLIGHT
TZOFFSETFROM:+0100
TZOFFSETTO:+0200
TZNAME:CEST
DTSTART:20260329T010000
END:DAYLIGHT
BEGIN:STANDARD
TZOFFSETFROM:+0200
TZOFFSETTO:+0100
TZNAME:CET
DTSTART:20261025T010000
END:STANDARD
END:VTIMEZONE
BEGIN:VEVENT
DTSTART;VALUE=DATE:20250327
DTEND;VALUE=DATE:20250329
DTSTAMP:20260420T091909
CREATED:20250213T133518Z
LAST-MODIFIED:20250213T133518Z
UID:10000077-1743033600-1743206399@charm-eu.eu
SUMMARY:ENLIGHT Impact Conference 2025
DESCRIPTION:ENLIGHT is organising its second Impact Conference\, gathering international impact experts\, practitioners\, academics and management staff to share and extend progress on the topic of impact in the university context. The Conference will focus on integrating impact into all facets of university missions\, including education\, research\, innovation and service to society. Through the lens of an impact-driven university model\, participants will explore strategies for breaking down silos\, promoting collaboration and embedding impact into their daily work. \nREGISTER HERE \nEvent Details: \n\nWhen: 27-28 March 2025\nWhere: University of Groningen\, The Netherlands\n\nConference Overview: \nAs universities worldwide face growing pressure to demonstrate tangible impact\, the ENLIGHT Impact Conference will bring together international experts\, academics\, practitioners\, and management staff to explore how universities can embed impact across education\, research\, innovation\, and service to society. \nOver the course of the conference\, we will discuss strategies for promoting an impact-driven university culture\, share best practices\, and explore how European University Alliances are shaping the European Education and Research Areas. \nKey Topics Include: \n\nInstitutional strategies for embedding impact across university missions\nMethods and tools for planning\, assessing\, and maximising university impact\nImpactful initiatives and good practices from leading universities\nHow European University Alliances are driving transformation and shaping the European Education Area\n\nTarget Audience: \n\nInternational impact experts and practitioners\nAcademics and management staff\nPolicymakers and other stakeholders
URL:https://charm-eu.eu/event/enlight-impact-conference-2025/
CATEGORIES:Select General Information General Information
END:VEVENT
END:VCALENDAR