BEGIN:VCALENDAR
VERSION:2.0
PRODID:-//CHARM-EU - ECPv6.15.20//NONSGML v1.0//EN
CALSCALE:GREGORIAN
METHOD:PUBLISH
X-WR-CALNAME:CHARM-EU
X-ORIGINAL-URL:https://charm-eu.eu
X-WR-CALDESC:Events for CHARM-EU
REFRESH-INTERVAL;VALUE=DURATION:PT1H
X-Robots-Tag:noindex
X-PUBLISHED-TTL:PT1H
BEGIN:VTIMEZONE
TZID:Europe/Helsinki
BEGIN:DAYLIGHT
TZOFFSETFROM:+0200
TZOFFSETTO:+0300
TZNAME:EEST
DTSTART:20240331T010000
END:DAYLIGHT
BEGIN:STANDARD
TZOFFSETFROM:+0300
TZOFFSETTO:+0200
TZNAME:EET
DTSTART:20241027T010000
END:STANDARD
BEGIN:DAYLIGHT
TZOFFSETFROM:+0200
TZOFFSETTO:+0300
TZNAME:EEST
DTSTART:20250330T010000
END:DAYLIGHT
BEGIN:STANDARD
TZOFFSETFROM:+0300
TZOFFSETTO:+0200
TZNAME:EET
DTSTART:20251026T010000
END:STANDARD
BEGIN:DAYLIGHT
TZOFFSETFROM:+0200
TZOFFSETTO:+0300
TZNAME:EEST
DTSTART:20260329T010000
END:DAYLIGHT
BEGIN:STANDARD
TZOFFSETFROM:+0300
TZOFFSETTO:+0200
TZNAME:EET
DTSTART:20261025T010000
END:STANDARD
END:VTIMEZONE
BEGIN:VEVENT
DTSTART;TZID=Europe/Helsinki:20250507T103000
DTEND;TZID=Europe/Helsinki:20250507T114500
DTSTAMP:20260419T153330
CREATED:20250403T123115Z
LAST-MODIFIED:20250415T134611Z
UID:10000083-1746613800-1746618300@charm-eu.eu
SUMMARY:EUIPO Virtual Open Day for university students
DESCRIPTION:This networking event will bring together in Barcelona the Polyglot League\, a CHARM-EU Inter-institutional working group that was created as a result of an initial networking event as a collaborative space to exchange ideas\, explore innovative solutions\, and strengthen connections between the language services of CHARM-EU partners.The meeting will take stock of ongoing inter-institutional projects\, share progress and good practices\, and explore new opportunities for collaboration. By revisiting initiatives launched since the 2024 Turku meeting and opening space for new ideas\, it will serve as a platform to deepen partnerships and spark joint activities in areas such as multilingualism\, intercultural competence\, English-Medium Instruction\, and innovative teaching practices across the CHARM-EU Alliance. 								\n				\n					\n				\n		\n					\n				\n				\n					Thursday January 22\, 2026				\n				\n				\n				\n									09:00 – 09:15 Walk-in 09:15 – 09:35 Welcome session 09:35 – 10:35 Speeddating 10:35 – 11:00 Coffee break 								\n				\n				\n				\n							\n						\n				\n					 11:00 - 12:00 New project ideas \n							\n			\n			\n		\n\n						\n				\n				\n				\n									In groups of 2.  Potential questions:  Purpose of the collaborationWho is involved?Target groupPitch of projectsVoting								\n				\n				\n					\n					\n						\n				\n				\n				\n									12:00 – 13:00 Netoworking lunch 								\n				\n				\n				\n							\n						\n				\n					 13:00 - 17:00 Workshop \n							\n			\n			\n		\n\n						\n				\n				\n				\n									Defining collaboration projectsIntroduction of ScrumProduct backlog 								\n				\n				\n					\n						\n				\n					 17:00 - 17:30 Wrap up of the day \n							\n			\n			\n		\n\n						\n				\n				\n				\n									The ideas we want to tacke tomorrowPresent everyon’s ideas (5 minutes per group)How/Ciao/Wow/Now								\n				\n				\n					\n					\n						\n				\n				\n				\n									20:00 Dinner 								\n				\n				\n				\n					Friday January 23\, 2026				\n				\n				\n				\n									09:00 – 09:30 Walk-in 								\n				\n				\n				\n							\n						\n				\n					 09:30 - 12:30 Workshop \n							\n			\n			\n		\n\n						\n				\n				\n				\n									Gallery walk (projects)Sprint planning								\n				\n				\n					\n						\n				\n					 12:30 - 13:30 Wrap-up & further actions \n							\n			\n			\n		\n\n						\n				\n				\n				\n									Action plan (concrete actions to be taken and commitment by whomPresent the solutions and how to pursue themExpress limits and worries								\n				\n				\n					\n					\n						\n				\n				\n				\n									13:30 – 14:30 Networking lunch
URL:https://charm-eu.eu/event/euipo-virtual-open-day-for-university-students/
LOCATION:Catalunya
CATEGORIES:Innovation,Interculturality,Learning,Select General Information General Information
ATTACH;FMTTYPE=image/png:https://charm-eu.eu/wp-content/uploads/2025/04/Virtual-Open-Day.png
END:VEVENT
END:VCALENDAR