BEGIN:VCALENDAR
VERSION:2.0
PRODID:-//CHARM-EU - ECPv6.15.20//NONSGML v1.0//EN
CALSCALE:GREGORIAN
METHOD:PUBLISH
X-WR-CALNAME:CHARM-EU
X-ORIGINAL-URL:https://charm-eu.eu
X-WR-CALDESC:Events for CHARM-EU
REFRESH-INTERVAL;VALUE=DURATION:PT1H
X-Robots-Tag:noindex
X-PUBLISHED-TTL:PT1H
BEGIN:VTIMEZONE
TZID:Europe/Paris
BEGIN:DAYLIGHT
TZOFFSETFROM:+0100
TZOFFSETTO:+0200
TZNAME:CEST
DTSTART:20240331T010000
END:DAYLIGHT
BEGIN:STANDARD
TZOFFSETFROM:+0200
TZOFFSETTO:+0100
TZNAME:CET
DTSTART:20241027T010000
END:STANDARD
BEGIN:DAYLIGHT
TZOFFSETFROM:+0100
TZOFFSETTO:+0200
TZNAME:CEST
DTSTART:20250330T010000
END:DAYLIGHT
BEGIN:STANDARD
TZOFFSETFROM:+0200
TZOFFSETTO:+0100
TZNAME:CET
DTSTART:20251026T010000
END:STANDARD
BEGIN:DAYLIGHT
TZOFFSETFROM:+0100
TZOFFSETTO:+0200
TZNAME:CEST
DTSTART:20260329T010000
END:DAYLIGHT
BEGIN:STANDARD
TZOFFSETFROM:+0200
TZOFFSETTO:+0100
TZNAME:CET
DTSTART:20261025T010000
END:STANDARD
END:VTIMEZONE
BEGIN:VEVENT
DTSTART;VALUE=DATE:20250402
DTEND;VALUE=DATE:20250404
DTSTAMP:20260419T140418
CREATED:20250327T110352Z
LAST-MODIFIED:20250327T110352Z
UID:10000082-1743552000-1743724799@charm-eu.eu
SUMMARY:Arqus Annual Conference
DESCRIPTION:The Arqus Alliance invites you to join them online at their 2025 Arqus Annual Conference\, which will take place on 2 and 3 April at Leipzig University (Germany). \nThis year’s theme\, “European Universities at the crossroads”\, aims to bring together Arqus leaders\, students\, academics and administrative staff to reflect on the evolving landscape of European Higher Education and the European Universities Initiative. \nThe Conference plenary sessions will be broadcast live on the Arqus YouTube channel. They will explore shared challenges\, opportunities and transformative strategies\, offering insights to strengthen collaboration within Arqus and beyond. \nExperts and colleagues from CHARM-EU\, Circle-U\, CIVIS\, EUTOPIA\, INGENIUM\, Open-EU and UNITA Alliances will participate in the different plenary sessions: \n\n2 April\, 10:30-12:00: Legal Entity: The future for European University Alliances\n2 April\, 13:30-15:00: Research strategies and collaborative research projects within European University Alliances\n3 April\, 09:00-10:30: Common digital infrastructures as tools and resources for European University Alliances\n\nThe full programme is available on the Arqus website.
URL:https://charm-eu.eu/event/arqus-annual-conference/
CATEGORIES:Governance,Research
ATTACH;FMTTYPE=image/jpeg:https://charm-eu.eu/wp-content/uploads/2025/03/argus-conference.jpg
END:VEVENT
END:VCALENDAR